BEGIN:VCALENDAR
VERSION:2.0
PRODID:-//Ruovesi palvelee - ECPv6.15.18//NONSGML v1.0//EN
CALSCALE:GREGORIAN
METHOD:PUBLISH
X-WR-CALNAME:Ruovesi palvelee
X-ORIGINAL-URL:https://www.ruovesipalvelee.fi
X-WR-CALDESC:Tapahtumat Ruovesi palvelee
REFRESH-INTERVAL;VALUE=DURATION:PT1H
X-Robots-Tag:noindex
X-PUBLISHED-TTL:PT1H
BEGIN:VTIMEZONE
TZID:UTC
BEGIN:STANDARD
TZOFFSETFROM:+0000
TZOFFSETTO:+0000
TZNAME:UTC
DTSTART:20250101T000000
END:STANDARD
END:VTIMEZONE
BEGIN:VEVENT
DTSTART;VALUE=DATE:20260401
DTEND;VALUE=DATE:20260430
DTSTAMP:20260422T084039
CREATED:20260327T130201Z
LAST-MODIFIED:20260327T130201Z
UID:10000204-1775001600-1777507199@www.ruovesipalvelee.fi
SUMMARY:Suunnista taiteeseen
DESCRIPTION:Pirkanmaan taidesuunnistukseen osallistuvien taiteilijoiden töitä Ruoveden kirjastossa 1.–29.4. Näyttelyn järjestää Ruoveden Taideyhdistys yhdessä kirjaston kanssa. Taidesuunnistustapahtuma kirjastossa la–su 18.–19.4. klo 11–17.
URL:https://www.ruovesipalvelee.fi/tapahtuma/suunnista-taiteeseen-2/
LOCATION:Ruoveden kunnankirjasto\, Urheilutie 4\, Ruovesi\, 34600\, Suomi
CATEGORIES:Näyttelyt
END:VEVENT
BEGIN:VEVENT
DTSTART;TZID=UTC:20260428T130000
DTEND;TZID=UTC:20260428T150000
DTSTAMP:20260422T084039
CREATED:20260327T124949Z
LAST-MODIFIED:20260327T124949Z
UID:10000202-1777381200-1777388400@www.ruovesipalvelee.fi
SUMMARY:Palveluohjaaja tavattavissa
DESCRIPTION:Ti 28.4. klo 13–15 palveluohjaaja tavattavissa\, \nklo 13.15–14.45 Pirkanmaan hyvinvointialueen siirtyminen sähköiseen laskutukseen − mitä se tarkoittaa ja mistä saat apua? \nNäytetään etänä\, striimaus suorana Veskan lähitorilta 13.4.2026.
URL:https://www.ruovesipalvelee.fi/tapahtuma/palveluohjaaja-tavattavissa/
LOCATION:Kohtaamispaikka Aleksiina\, Urheilutie 1\, Ruovesi\, 34600\, Suomi
CATEGORIES:Tapahtumat
END:VEVENT
BEGIN:VEVENT
DTSTART;TZID=UTC:20260428T131500
DTEND;TZID=UTC:20260428T144500
DTSTAMP:20260422T084039
CREATED:20260411T144151Z
LAST-MODIFIED:20260411T144151Z
UID:10000448-1777382100-1777387500@www.ruovesipalvelee.fi
SUMMARY:Tietoisku Lähitorilta: Pirkanmaan hyvinvointialueen siirtyminen sähköiseen laskutukseen
DESCRIPTION:Tervetuloa katsomaan tietoisku Pirkanmaan hyvinvointialueen siirtymisestä sähköiseen laskutukseen −mitä se tarkoittaa ja mistä saat apua?\nTietoisku on tallenne ja kesto noin 1-1\,5 h.
URL:https://www.ruovesipalvelee.fi/tapahtuma/tietoisku-lahitorilta-pirkanmaan-hyvinvointialueen-siirtyminen-sahkoiseen-laskutukseen/
LOCATION:Kohtaamispaikka Aleksiina\, Urheilutie 1\, Ruovesi\, 34600\, Suomi
CATEGORIES:Tapahtumat
END:VEVENT
END:VCALENDAR