BEGIN:VCALENDAR
VERSION:2.0
PRODID:-//Ruovesi palvelee - ECPv6.15.18//NONSGML v1.0//EN
CALSCALE:GREGORIAN
METHOD:PUBLISH
X-ORIGINAL-URL:https://www.ruovesipalvelee.fi
X-WR-CALDESC:Tapahtumat Ruovesi palvelee
REFRESH-INTERVAL;VALUE=DURATION:PT1H
X-Robots-Tag:noindex
X-PUBLISHED-TTL:PT1H
BEGIN:VTIMEZONE
TZID:UTC
BEGIN:STANDARD
TZOFFSETFROM:+0000
TZOFFSETTO:+0000
TZNAME:UTC
DTSTART:20250101T000000
END:STANDARD
END:VTIMEZONE
BEGIN:VEVENT
DTSTART;TZID=UTC:20260330T140000
DTEND;TZID=UTC:20260330T180000
DTSTAMP:20260422T100456
CREATED:20260317T184457Z
LAST-MODIFIED:20260317T184457Z
UID:10000402-1774879200-1774893600@www.ruovesipalvelee.fi
SUMMARY:Verenluovutus
DESCRIPTION:Verenluovutus 30.3. klo 14–18 Ruoveden seurakuntatalossa\, Honkalantie 8. Järj. Punaisen Ristin Veripalvelu
URL:https://www.ruovesipalvelee.fi/tapahtuma/verenluovutus/
LOCATION:Seurakuntakeskus Aatos\, Honkalantie 6\, Ruovesi\, 34600
CATEGORIES:Tapahtumat
GEO:61.9837717;24.0694383
X-APPLE-STRUCTURED-LOCATION;VALUE=URI;X-ADDRESS=Seurakuntakeskus Aatos Honkalantie 6 Ruovesi 34600;X-APPLE-RADIUS=500;X-TITLE=Honkalantie 6:geo:24.0694383,61.9837717
END:VEVENT
END:VCALENDAR