BEGIN:VCALENDAR
VERSION:2.0
PRODID:-//Ruovesi palvelee - ECPv6.15.18//NONSGML v1.0//EN
CALSCALE:GREGORIAN
METHOD:PUBLISH
X-WR-CALNAME:Ruovesi palvelee
X-ORIGINAL-URL:https://www.ruovesipalvelee.fi
X-WR-CALDESC:Tapahtumat Ruovesi palvelee
REFRESH-INTERVAL;VALUE=DURATION:PT1H
X-Robots-Tag:noindex
X-PUBLISHED-TTL:PT1H
BEGIN:VTIMEZONE
TZID:UTC
BEGIN:STANDARD
TZOFFSETFROM:+0000
TZOFFSETTO:+0000
TZNAME:UTC
DTSTART:20250101T000000
END:STANDARD
END:VTIMEZONE
BEGIN:VEVENT
DTSTART;TZID=UTC:20260501T110000
DTEND;TZID=UTC:20260501T150000
DTSTAMP:20260422T193849
CREATED:20260422T122137Z
LAST-MODIFIED:20260422T122137Z
UID:10000458-1777633200-1777647600@www.ruovesipalvelee.fi
SUMMARY:Bistro Jätkänkämppä aukeaa
DESCRIPTION:Bistro Jätkänkämppä aukeaa 1.5. klo 11–15\nRuovesi camping – Haapasaari\, Haapasaarentie 5 Ruovesi \nAvataan kesäravintola edullisen vappubrunssin merkeissä.\nTarjolla vapputunnelma menu.\nVaraa paikkasi ajoissa\, paikkoja rajoitetusti. \nTervetuloa \nJärjestäjä: Ruovesi camping Haapasaari
URL:https://www.ruovesipalvelee.fi/tapahtuma/bistro-jatkankamppa-aukeaa/
LOCATION:Jätkäinkämppä Haapasaari\, Haapasaarentie 5\, Ruovesi\, 34600
CATEGORIES:Tapahtumat
GEO:61.9943247;24.0685581
X-APPLE-STRUCTURED-LOCATION;VALUE=URI;X-ADDRESS=Jätkäinkämppä Haapasaari Haapasaarentie 5 Ruovesi 34600;X-APPLE-RADIUS=500;X-TITLE=Haapasaarentie 5:geo:24.0685581,61.9943247
END:VEVENT
END:VCALENDAR