BEGIN:VCALENDAR
VERSION:2.0
PRODID:-//Ruovesi palvelee - ECPv6.15.18//NONSGML v1.0//EN
CALSCALE:GREGORIAN
METHOD:PUBLISH
X-ORIGINAL-URL:https://www.ruovesipalvelee.fi
X-WR-CALDESC:Tapahtumat Ruovesi palvelee
REFRESH-INTERVAL;VALUE=DURATION:PT1H
X-Robots-Tag:noindex
X-PUBLISHED-TTL:PT1H
BEGIN:VTIMEZONE
TZID:UTC
BEGIN:STANDARD
TZOFFSETFROM:+0000
TZOFFSETTO:+0000
TZNAME:UTC
DTSTART:20250101T000000
END:STANDARD
END:VTIMEZONE
BEGIN:VEVENT
DTSTART;TZID=UTC:20260401T173000
DTEND;TZID=UTC:20260401T190000
DTSTAMP:20260422T162746
CREATED:20260112T163422Z
LAST-MODIFIED:20260211T091105Z
UID:10000175-1775064600-1775070000@www.ruovesipalvelee.fi
SUMMARY:Yhteislauluilta
DESCRIPTION:Yhteislauluilta keskiviikkona 1.4. klo 17.30–19 Visuveden nuorisoseurantalolla. (Ajankohta muuttui) \nLaulattamassa Minna ja Seppo.\n17.30 Kahvibuffetti\n18 Yhteislaulu \nEi pääsymaksua.\nMaksullinen buffetti. \nTervetuloa laulamaan! \nJärj. Luova maalainen ja Visuveden Nuorisoseura ry
URL:https://www.ruovesipalvelee.fi/tapahtuma/yhteislauluilta-2/
LOCATION:Visuveden Nuorisoseuratalo\, Alastalontie 5\, Ruovesi\, 34870\, Finland
CATEGORIES:Tapahtumat
END:VEVENT
END:VCALENDAR